BEGIN:VCALENDAR
VERSION:2.0
PRODID:-//Fraunhofer-Gesellschaft//Fraunhofer-Institut für Arbeitswirtschaf
 t und Organisation IAO//DE
BEGIN:VEVENT
UID:1ed9c8f4-7620-4e05-8bbb-a6e7e2bf3587
DTSTAMP:20260120T113130Z
SUMMARY:Work Forward: Deskilling durch KI?
DTSTART:20260220T070000Z
DTEND:20260220T080000Z
END:VEVENT
END:VCALENDAR
